BEGIN:VCALENDAR
VERSION:2.0
PRODID:-//The Alan R. Pearlman Foundation - ECPv6.15.20//NONSGML v1.0//EN
CALSCALE:GREGORIAN
METHOD:PUBLISH
X-ORIGINAL-URL:https://alanrpearlmanfoundation.org
X-WR-CALDESC:Events for The Alan R. Pearlman Foundation
REFRESH-INTERVAL;VALUE=DURATION:PT1H
X-Robots-Tag:noindex
X-PUBLISHED-TTL:PT1H
BEGIN:VTIMEZONE
TZID:America/New_York
BEGIN:DAYLIGHT
TZOFFSETFROM:-0500
TZOFFSETTO:-0400
TZNAME:EDT
DTSTART:20240310T070000
END:DAYLIGHT
BEGIN:STANDARD
TZOFFSETFROM:-0400
TZOFFSETTO:-0500
TZNAME:EST
DTSTART:20241103T060000
END:STANDARD
BEGIN:DAYLIGHT
TZOFFSETFROM:-0500
TZOFFSETTO:-0400
TZNAME:EDT
DTSTART:20250309T070000
END:DAYLIGHT
BEGIN:STANDARD
TZOFFSETFROM:-0400
TZOFFSETTO:-0500
TZNAME:EST
DTSTART:20251102T060000
END:STANDARD
BEGIN:DAYLIGHT
TZOFFSETFROM:-0500
TZOFFSETTO:-0400
TZNAME:EDT
DTSTART:20260308T070000
END:DAYLIGHT
BEGIN:STANDARD
TZOFFSETFROM:-0400
TZOFFSETTO:-0500
TZNAME:EST
DTSTART:20261101T060000
END:STANDARD
BEGIN:DAYLIGHT
TZOFFSETFROM:-0500
TZOFFSETTO:-0400
TZNAME:EDT
DTSTART:20270314T070000
END:DAYLIGHT
BEGIN:STANDARD
TZOFFSETFROM:-0400
TZOFFSETTO:-0500
TZNAME:EST
DTSTART:20271107T060000
END:STANDARD
END:VTIMEZONE
BEGIN:VEVENT
DTSTART;TZID=America/New_York:20260409T193000
DTEND;TZID=America/New_York:20260409T213000
DTSTAMP:20260423T033327
CREATED:20260321T164828Z
LAST-MODIFIED:20260403T183622Z
UID:5859-1775763000-1775770200@alanrpearlmanfoundation.org
SUMMARY:Berklee & Friends Celebrate ARP @100
DESCRIPTION:A concert celebrating the Centenary of Alan R Pearlman: classic\, jazz\, pop\, electronica\, ambient & more!\nApril 9 @ 7:30 PM Boston\, MA\n→ Live Stream Link ←\nPerformances by:\nMichael Bierylo • Richard Bru • Jennifer Hruska Project • Massimo Ferragamo • David Frederick Jr & David Fredericks Sr • Collin Russell • Kristina Warren \nVisuals by Deftly D & Jose Octavio
URL:https://alanrpearlmanfoundation.org/event/berklee-friends-celebrate-arp-100/
LOCATION:David Friend Recital Hall\, 921 Boylston Street\, Boston\, MA\, 02114\, United States
ATTACH;FMTTYPE=image/jpeg:https://alanrpearlmanfoundation.org/wp-content/uploads/2026/03/ARP-cent-banner-april-9.jpg
END:VEVENT
BEGIN:VEVENT
DTSTART;VALUE=DATE:20260125
DTEND;VALUE=DATE:20260126
DTSTAMP:20260423T033327
CREATED:20260118T171634Z
LAST-MODIFIED:20260118T171634Z
UID:5792-1769299200-1769385599@alanrpearlmanfoundation.org
SUMMARY:Buchla & Friends
DESCRIPTION:We’ll be at Buchla & Friends\, January’s biggest two-day collection of hands-on synths on the West Coast! If you love creative sound\, you need to be here. With a pre-party on Thursday\, afterparty on Saturday\, and two days of exploring all the greatest gear\, Buchla & Friends is an essential start to the new year. \nThey’re gathering over 90 synth makers in one awesome Downtown Los Angeles location so you can learn\, listen\, and live the latest in electronic music sound production. This hands-on\, headphones-only gathering gives you a chance to hear the best sounds science has ever created. From additive to subtractive\, analog to digital\, keyboards to breath\, audio to visual\, modular to full-size polyphonic\, eurorack to Serge to Buchla\, you’ll meet synth makers and synth enthusiasts alike.
URL:https://alanrpearlmanfoundation.org/event/buchla-friends/
LOCATION:C&I Studios\, 1101 East 18th Street\, Los Angeles\, CA\, 90021\, United States
ATTACH;FMTTYPE=image/png:https://alanrpearlmanfoundation.org/wp-content/uploads/2026/01/announcement_45.png
END:VEVENT
BEGIN:VEVENT
DTSTART;VALUE=DATE:20260122
DTEND;VALUE=DATE:20260125
DTSTAMP:20260423T033327
CREATED:20260118T170603Z
LAST-MODIFIED:20260118T170603Z
UID:5783-1769040000-1769299199@alanrpearlmanfoundation.org
SUMMARY:ARPf at NAMM 2026
DESCRIPTION:Yep – we’re headed back to California for NAMM – and more! Here’s the scoop: \nThursday January 22: \n\nRegistration opens for our NAMM giveaway!\n\nFriday January 23: \n\nAnthony Marinelli at our booth\nBlue Meanie All Day: See the rarest ARP there is! Nicknamed the “Blue Marvin” after ARP‘s CFO\, Marvin Cohen\, due to its bright blue metal case and unique features – while the actual name was “Blue Marvin\,” the nickname “Blue Meanie” stuck! Only about 25 were made in 1971\, making them highly sought after.\nARP 2600: Drew Schlesinger demonstrates patches using the 2600 software included in the Korg Collection VST\n\nSaturday January 24 \n\n\nArtists at our booth – TBA \n\n\nGiveaways at 4:00pm: \n\n\nPoster signed by Martin Gore\nSoul of the Machine CDs\n\nAnd one lucky person will win the full Korg Collection 6.
URL:https://alanrpearlmanfoundation.org/event/arpf-at-namm-2026/
LOCATION:Anaheim Convention Center\, 800 W Katella Ave\,\, Anaheim\, CA\, 92802\, United States
ATTACH;FMTTYPE=image/png:https://alanrpearlmanfoundation.org/wp-content/uploads/2026/01/Copy-of-Copy-of-NAMM-Show-Square-11-Add-Your-Image2.png
END:VEVENT
BEGIN:VEVENT
DTSTART;TZID=America/New_York:20251219T180000
DTEND;TZID=America/New_York:20251219T220000
DTSTAMP:20260423T033327
CREATED:20251125T201519Z
LAST-MODIFIED:20251125T203011Z
UID:5574-1766167200-1766181600@alanrpearlmanfoundation.org
SUMMARY:SOUL OF THE MACHINE • CD release party @ SynthCube
DESCRIPTION:Come out to synthCube for a CD release party for SOUL OF THE MACHINE\, a compilation released by the ARP Foundation that celebrates the life and work of Alan R Pearlman.\nThe evening of December nineteenth will include performances from artists featured on the album! \n\nBill T Miller\nBob Familiar\nCollin Russell\n\nDoors at 6\, Music at 7! \n167 Prospect Street\, Unit 1\nWaltham\, MA 02453
URL:https://alanrpearlmanfoundation.org/event/soul-of-the-machine-cd-release-party-synthcube/
LOCATION:synthCube\, 167 Prospect St Unit 1\, Waltham\, MA\, 02453\, United States
ATTACH;FMTTYPE=application/pdf:https://alanrpearlmanfoundation.org/wp-content/uploads/2025/11/ARPPOSTER2-1.pdf
ORGANIZER;CN="synthCube":MAILTO:info@synthcube.com
END:VEVENT
END:VCALENDAR